BEGIN:VCALENDAR
VERSION:2.0
PRODID:-//Sabre//Sabre VObject 4.5.8//EN
CALSCALE:GREGORIAN
BEGIN:VEVENT
UID:sabre-vobject-88145a7a-32ab-4ca8-a1ca-a1471e554699
DTSTAMP:20260423T195034Z
SUMMARY: Black Forest Treetop Walk & Suspension Bridge 
DESCRIPTION:Soar above the Black Forest this summer with an unforgettable t
 reetop and suspension‑bridge adventure.\n
X-ALT-DESC:FMTTYPE=text/html:<!DOCTYPE HTML PUBLIC "-//W3C//DTD HTML 3.2//E
 N"><HTML><p>Soar above the Black Forest this summer with an unforgettable 
 treetop and suspension‑bridge adventure.</p>\n</HTML>
CREATED;TZID=Europe/Oslo:20260417T100126
URL;VALUE=URI:https://stuttgart.armymwr.com/calendar/event
DTSTART;TZID=Europe/Oslo:20260814T000000
DTEND;TZID=Europe/Oslo:20260814T235959
SEQUENCE:0
END:VEVENT
END:VCALENDAR
