BEGIN:VCALENDAR
VERSION:2.0
PRODID:-//Sabre//Sabre VObject 4.5.8//EN
CALSCALE:GREGORIAN
BEGIN:VEVENT
UID:sabre-vobject-5520c47d-f3a1-4aa6-80bb-29f459753772
DTSTAMP:20260422T161449Z
SUMMARY:Christmas in July
DESCRIPTION:Kick off your holiday spirit early with our festive Christmas i
 n July savings.\n
X-ALT-DESC:FMTTYPE=text/html:<!DOCTYPE HTML PUBLIC "-//W3C//DTD HTML 3.2//E
 N"><HTML><p>Kick off your holiday spirit early with our festive Christmas 
 in July savings.</p>\n</HTML>
CREATED;TZID=Europe/Oslo:20260417T084314
URL;VALUE=URI:https://stuttgart.armymwr.com/calendar/event
DTSTART;TZID=Europe/Oslo:20260721T000000
DTEND;TZID=Europe/Oslo:20260725T235959
SEQUENCE:0
END:VEVENT
END:VCALENDAR
