BEGIN:VCALENDAR
VERSION:2.0
PRODID:-//Sabre//Sabre VObject 4.5.8//EN
CALSCALE:GREGORIAN
BEGIN:VEVENT
UID:sabre-vobject-abe2b1f5-c76c-4357-8584-daba414996e2
DTSTAMP:20260422T174308Z
SUMMARY:Pfaffensee Wildlife Walk
DESCRIPTION:Escape into Stuttgart&rsquo\;s wild side with a scenic lakeside
  hike\, close‑up wildlife encounters\, and a castle‑top finish!\n
X-ALT-DESC:FMTTYPE=text/html:<!DOCTYPE HTML PUBLIC "-//W3C//DTD HTML 3.2//E
 N"><HTML><p>Escape into Stuttgart&rsquo\;s wild side with a scenic lakesid
 e hike\, close‑up wildlife encounters\, and a castle‑top finish!</p>\n
 </HTML>
CREATED;TZID=Europe/Oslo:20260413T112936
URL;VALUE=URI:https://stuttgart.armymwr.com/calendar/event
DTSTART;TZID=Europe/Oslo:20260719T000000
DTEND;TZID=Europe/Oslo:20260719T235959
SEQUENCE:0
END:VEVENT
END:VCALENDAR
