BEGIN:VCALENDAR
VERSION:2.0
PRODID:-//Sabre//Sabre VObject 4.5.8//EN
CALSCALE:GREGORIAN
BEGIN:VEVENT
UID:sabre-vobject-81925200-a7fa-4ffa-9b99-3088d9acc1d0
DTSTAMP:20260422T015215Z
SUMMARY:Highline179 Suspension Bridge & Ehrenberg Castle Ruins 
DESCRIPTION:Experience one of the longest pedestrian suspension bridges in 
 the world&mdash\;offering a true &ldquo\;view with a thrill.&rdquo\;\n
X-ALT-DESC:FMTTYPE=text/html:<!DOCTYPE HTML PUBLIC "-//W3C//DTD HTML 3.2//E
 N"><HTML><p>Experience one of the longest pedestrian suspension bridges in
  the world&mdash\;offering a true &ldquo\;view with a thrill.&rdquo\;</p>\
 n</HTML>
CREATED;TZID=Europe/Oslo:20260413T100220
URL;VALUE=URI:https://stuttgart.armymwr.com/calendar/event
DTSTART;TZID=Europe/Oslo:20260703T000000
DTEND;TZID=Europe/Oslo:20260703T235959
SEQUENCE:0
END:VEVENT
END:VCALENDAR
