BEGIN:VCALENDAR
VERSION:2.0
PRODID:-//Sabre//Sabre VObject 4.5.8//EN
CALSCALE:GREGORIAN
BEGIN:VEVENT
UID:sabre-vobject-5d40728a-1a3a-4650-9789-c04d3d85ec14
DTSTAMP:20260420T125451Z
SUMMARY:Cancelled: Costco Shopping Trip
DESCRIPTION:Our trip is cancelled due to low registration. Please see the m
 any other trips we have available for you.&nbsp\;\n\nHop on the MWR Road T
 rip to Costco France!\n
X-ALT-DESC:FMTTYPE=text/html:<!DOCTYPE HTML PUBLIC "-//W3C//DTD HTML 3.2//E
 N"><HTML><p>Our trip is cancelled due to low registration. Please see the 
 many other trips we have available for you.&nbsp\;</p>\n\n<p>Hop on the MW
 R Road Trip to Costco France!</p>\n</HTML>
CREATED;TZID=Europe/Oslo:20260319T142231
URL;VALUE=URI:https://stuttgart.armymwr.com/calendar/event
DTSTART;TZID=Europe/Oslo:20260321T000000
DTEND;TZID=Europe/Oslo:20260321T235959
SEQUENCE:0
END:VEVENT
END:VCALENDAR
