BEGIN:VCALENDAR
VERSION:2.0
PRODID:-//Sabre//Sabre VObject 4.5.8//EN
CALSCALE:GREGORIAN
BEGIN:VEVENT
UID:sabre-vobject-9bd87e88-eba2-4cca-81e2-4bbf9a326de3
DTSTAMP:20260420T142739Z
SUMMARY:Father's Day Special
DESCRIPTION:Give Dad a Gift Made Just for Him&mdash\;Engraved Tumblers on S
 pecial!\n
X-ALT-DESC:FMTTYPE=text/html:<!DOCTYPE HTML PUBLIC "-//W3C//DTD HTML 3.2//E
 N"><HTML><p>Give Dad a Gift Made Just for Him&mdash\;Engraved Tumblers on 
 Special!</p>\n</HTML>
CREATED;TZID=Europe/Oslo:20260224T105646
URL;VALUE=URI:https://stuttgart.armymwr.com/calendar/event
DTSTART;TZID=Europe/Oslo:20260601T000000
DTEND;TZID=Europe/Oslo:20260614T235959
SEQUENCE:0
END:VEVENT
END:VCALENDAR
