BEGIN:VCALENDAR
VERSION:2.0
PRODID:-//Sabre//Sabre VObject 4.5.8//EN
CALSCALE:GREGORIAN
BEGIN:VEVENT
UID:sabre-vobject-e54cbc4a-ea47-4cf4-acd3-31062514ad89
DTSTAMP:20260420T182410Z
SUMMARY:Scuba & BBQ Summer 2026
DESCRIPTION:Try Scuba\, Taste BBQ\, Embrace the Adventure!\n
X-ALT-DESC:FMTTYPE=text/html:<!DOCTYPE HTML PUBLIC "-//W3C//DTD HTML 3.2//E
 N"><HTML><p>Try Scuba\, Taste BBQ\, Embrace the Adventure!</p>\n</HTML>
CREATED;TZID=Europe/Oslo:20260223T153904
URL;VALUE=URI:https://stuttgart.armymwr.com/calendar/event
DTSTART;TZID=Europe/Oslo:20260606T000000
DTEND;TZID=Europe/Oslo:20260606T235959
SEQUENCE:0
END:VEVENT
BEGIN:VEVENT
UID:sabre-vobject-857d3dda-4e9e-4d42-be75-1550ef0cd7ee
DTSTAMP:20260420T182410Z
SUMMARY:Scuba & BBQ Summer 2026
DESCRIPTION:Try Scuba\, Taste BBQ\, Embrace the Adventure!\n
X-ALT-DESC:FMTTYPE=text/html:<!DOCTYPE HTML PUBLIC "-//W3C//DTD HTML 3.2//E
 N"><HTML><p>Try Scuba\, Taste BBQ\, Embrace the Adventure!</p>\n</HTML>
CREATED;TZID=Europe/Oslo:20260223T153904
URL;VALUE=URI:https://stuttgart.armymwr.com/calendar/event
DTSTART;TZID=Europe/Oslo:20260711T000000
DTEND;TZID=Europe/Oslo:20260711T235959
SEQUENCE:1
END:VEVENT
BEGIN:VEVENT
UID:sabre-vobject-bf2c7260-f035-4471-be5c-2388d0742e38
DTSTAMP:20260420T182410Z
SUMMARY:Scuba & BBQ Summer 2026
DESCRIPTION:Try Scuba\, Taste BBQ\, Embrace the Adventure!\n
X-ALT-DESC:FMTTYPE=text/html:<!DOCTYPE HTML PUBLIC "-//W3C//DTD HTML 3.2//E
 N"><HTML><p>Try Scuba\, Taste BBQ\, Embrace the Adventure!</p>\n</HTML>
CREATED;TZID=Europe/Oslo:20260223T153904
URL;VALUE=URI:https://stuttgart.armymwr.com/calendar/event
DTSTART;TZID=Europe/Oslo:20260801T000000
DTEND;TZID=Europe/Oslo:20260801T235959
SEQUENCE:2
END:VEVENT
BEGIN:VEVENT
UID:sabre-vobject-bd0ef54e-d1e8-471d-a4c0-999d66b27b7d
DTSTAMP:20260420T182410Z
SUMMARY:Scuba & BBQ Summer 2026
DESCRIPTION:Try Scuba\, Taste BBQ\, Embrace the Adventure!\n
X-ALT-DESC:FMTTYPE=text/html:<!DOCTYPE HTML PUBLIC "-//W3C//DTD HTML 3.2//E
 N"><HTML><p>Try Scuba\, Taste BBQ\, Embrace the Adventure!</p>\n</HTML>
CREATED;TZID=Europe/Oslo:20260223T153904
URL;VALUE=URI:https://stuttgart.armymwr.com/calendar/event
DTSTART;TZID=Europe/Oslo:20260905T000000
DTEND;TZID=Europe/Oslo:20260905T235959
SEQUENCE:3
END:VEVENT
BEGIN:VEVENT
UID:sabre-vobject-ab871ca7-a6c7-4ab3-bf0e-0a2cbe2972a3
DTSTAMP:20260420T182410Z
SUMMARY:Scuba & BBQ Summer 2026
DESCRIPTION:Try Scuba\, Taste BBQ\, Embrace the Adventure!\n
X-ALT-DESC:FMTTYPE=text/html:<!DOCTYPE HTML PUBLIC "-//W3C//DTD HTML 3.2//E
 N"><HTML><p>Try Scuba\, Taste BBQ\, Embrace the Adventure!</p>\n</HTML>
CREATED;TZID=Europe/Oslo:20260223T153904
URL;VALUE=URI:https://stuttgart.armymwr.com/calendar/event
DTSTART;TZID=Europe/Oslo:20261010T000000
DTEND;TZID=Europe/Oslo:20261010T235959
SEQUENCE:4
END:VEVENT
END:VCALENDAR
