BEGIN:VCALENDAR
VERSION:2.0
PRODID:-//Sabre//Sabre VObject 4.5.8//EN
CALSCALE:GREGORIAN
BEGIN:VEVENT
UID:sabre-vobject-fd4a8700-d6f3-449d-81b7-0bdcedd66a28
DTSTAMP:20260421T113131Z
SUMMARY:Normandy & Paris
DESCRIPTION:Experience the power of Normandy and the magic of Paris all in 
 one epic adventure!\n
X-ALT-DESC:FMTTYPE=text/html:<!DOCTYPE HTML PUBLIC "-//W3C//DTD HTML 3.2//E
 N"><HTML><p>Experience the power of Normandy and the magic of Paris all in
  one epic adventure!</p>\n</HTML>
CREATED;TZID=Europe/Oslo:20260217T155124
URL;VALUE=URI:https://stuttgart.armymwr.com/calendar/event
DTSTART;TZID=Europe/Oslo:20260618T000000
DTEND;TZID=Europe/Oslo:20260622T235959
SEQUENCE:0
END:VEVENT
END:VCALENDAR
