BEGIN:VCALENDAR
VERSION:2.0
PRODID:-//Sabre//Sabre VObject 4.5.8//EN
CALSCALE:GREGORIAN
BEGIN:VEVENT
UID:sabre-vobject-9eb90acd-e3e1-42d2-9241-89ec026ff055
DTSTAMP:20260419T115527Z
SUMMARY:May the Fourth (be with you)
DESCRIPTION:Celebrate May the Fourth at Patch Library&mdash\;where the Forc
 e meets fun!\n
X-ALT-DESC:FMTTYPE=text/html:<!DOCTYPE HTML PUBLIC "-//W3C//DTD HTML 3.2//E
 N"><HTML><p>Celebrate May the Fourth at Patch Library&mdash\;where the For
 ce meets fun!</p>\n</HTML>
CREATED;TZID=Europe/Oslo:20260212T102011
URL;VALUE=URI:https://stuttgart.armymwr.com/calendar/event
DTSTART;TZID=Europe/Oslo:20260504T150000
DTEND;TZID=Europe/Oslo:20260504T170000
SEQUENCE:0
END:VEVENT
END:VCALENDAR
