BEGIN:VCALENDAR
VERSION:2.0
PRODID:-//Sabre//Sabre VObject 4.5.8//EN
CALSCALE:GREGORIAN
BEGIN:VEVENT
UID:sabre-vobject-b4c91f9a-4407-4545-b0bf-98ff9d29a7eb
DTSTAMP:20260420T091834Z
SUMMARY:Spring in Strasbourg City Tour
DESCRIPTION:Explore the blooming beauty of Strasbourg City in Spring!\n
X-ALT-DESC:FMTTYPE=text/html:<!DOCTYPE HTML PUBLIC "-//W3C//DTD HTML 3.2//E
 N"><HTML><p>Explore the blooming beauty of Strasbourg City in Spring!</p>\
 n</HTML>
CREATED;TZID=Europe/Oslo:20260115T124630
URL;VALUE=URI:https://stuttgart.armymwr.com/calendar/event
DTSTART;TZID=Europe/Oslo:20260404T000000
DTEND;TZID=Europe/Oslo:20260404T235959
SEQUENCE:0
END:VEVENT
END:VCALENDAR
