BEGIN:VCALENDAR
VERSION:2.0
PRODID:-//Sabre//Sabre VObject 4.5.8//EN
CALSCALE:GREGORIAN
BEGIN:VEVENT
UID:sabre-vobject-62330ce6-f62b-4864-80c0-2441b7f6fd17
DTSTAMP:20260420T185125Z
SUMMARY:CYS Parents' Day Out
DESCRIPTION:Let us take care of the little ones while you enjoy a wonderful
  day!\n
X-ALT-DESC:FMTTYPE=text/html:<!DOCTYPE HTML PUBLIC "-//W3C//DTD HTML 3.2//E
 N"><HTML><p>Let us take care of the little ones while you enjoy a wonderfu
 l day!</p>\n</HTML>
CREATED;TZID=Europe/Oslo:20260112T143746
URL;VALUE=URI:https://stuttgart.armymwr.com/calendar/event
DTSTART;TZID=Europe/Oslo:20260314T100000
DTEND;TZID=Europe/Oslo:20260314T160000
SEQUENCE:0
END:VEVENT
BEGIN:VEVENT
UID:sabre-vobject-70a604ac-0998-4ce3-8fbc-68581fa1db14
DTSTAMP:20260420T185125Z
SUMMARY:CYS Parents' Day Out
DESCRIPTION:Let us take care of the little ones while you enjoy a wonderful
  day!\n
X-ALT-DESC:FMTTYPE=text/html:<!DOCTYPE HTML PUBLIC "-//W3C//DTD HTML 3.2//E
 N"><HTML><p>Let us take care of the little ones while you enjoy a wonderfu
 l day!</p>\n</HTML>
CREATED;TZID=Europe/Oslo:20260112T143746
URL;VALUE=URI:https://stuttgart.armymwr.com/calendar/event
DTSTART;TZID=Europe/Oslo:20261212T100000
DTEND;TZID=Europe/Oslo:20261212T160000
SEQUENCE:1
END:VEVENT
END:VCALENDAR
