BEGIN:VCALENDAR
VERSION:2.0
PRODID:-//Sabre//Sabre VObject 4.5.8//EN
CALSCALE:GREGORIAN
BEGIN:VEVENT
UID:sabre-vobject-f3a90121-f7f2-487f-a278-2bdc3dbcd7cb
DTSTAMP:20260420T194900Z
SUMMARY:CYS Parents' Night Out 
DESCRIPTION:Let us take care of the little ones while you enjoy a wonderful
  night!\n
X-ALT-DESC:FMTTYPE=text/html:<!DOCTYPE HTML PUBLIC "-//W3C//DTD HTML 3.2//E
 N"><HTML><p>Let us take care of the little ones while you enjoy a wonderfu
 l night!</p>\n</HTML>
CREATED;TZID=Europe/Oslo:20260112T143655
URL;VALUE=URI:https://stuttgart.armymwr.com/calendar/event
DTSTART;TZID=Europe/Oslo:20260515T183000
DTEND;TZID=Europe/Oslo:20260515T223000
SEQUENCE:0
END:VEVENT
BEGIN:VEVENT
UID:sabre-vobject-c706e9fc-96d7-4788-ac6a-8898b79c5a66
DTSTAMP:20260420T194900Z
SUMMARY:CYS Parents' Night Out 
DESCRIPTION:Let us take care of the little ones while you enjoy a wonderful
  night!\n
X-ALT-DESC:FMTTYPE=text/html:<!DOCTYPE HTML PUBLIC "-//W3C//DTD HTML 3.2//E
 N"><HTML><p>Let us take care of the little ones while you enjoy a wonderfu
 l night!</p>\n</HTML>
CREATED;TZID=Europe/Oslo:20260112T143655
URL;VALUE=URI:https://stuttgart.armymwr.com/calendar/event
DTSTART;TZID=Europe/Oslo:20260605T183000
DTEND;TZID=Europe/Oslo:20260605T223000
SEQUENCE:1
END:VEVENT
END:VCALENDAR
