BEGIN:VCALENDAR
VERSION:2.0
PRODID:-//Sabre//Sabre VObject 4.5.8//EN
CALSCALE:GREGORIAN
BEGIN:VEVENT
UID:sabre-vobject-152c0790-2563-45e4-9edf-7db5f786b9fa
DTSTAMP:20260419T121211Z
SUMMARY:SOLD OUT Alpaca Trekking 
DESCRIPTION:Trekking in the Black Forest sounds awesome...wait\, with an al
 paca too?!&nbsp\;\n
X-ALT-DESC:FMTTYPE=text/html:<!DOCTYPE HTML PUBLIC "-//W3C//DTD HTML 3.2//E
 N"><HTML><p>Trekking in the Black Forest sounds awesome...wait\, with an a
 lpaca too?!&nbsp\;</p>\n</HTML>
CREATED;TZID=Europe/Oslo:20260324T160629
URL;VALUE=URI:https://stuttgart.armymwr.com/calendar/event
DTSTART;TZID=Europe/Oslo:20260509T000000
DTEND;TZID=Europe/Oslo:20260509T235959
SEQUENCE:0
END:VEVENT
BEGIN:VEVENT
UID:sabre-vobject-07045665-906a-4f75-9ba4-584bacc7b529
DTSTAMP:20260419T121211Z
SUMMARY:SOLD OUT Alpaca Trekking 
DESCRIPTION:Trekking in the Black Forest sounds awesome...wait\, with an al
 paca too?!&nbsp\;\n
X-ALT-DESC:FMTTYPE=text/html:<!DOCTYPE HTML PUBLIC "-//W3C//DTD HTML 3.2//E
 N"><HTML><p>Trekking in the Black Forest sounds awesome...wait\, with an a
 lpaca too?!&nbsp\;</p>\n</HTML>
CREATED;TZID=Europe/Oslo:20260324T160629
URL;VALUE=URI:https://stuttgart.armymwr.com/calendar/event
DTSTART;TZID=Europe/Oslo:20260620T000000
DTEND;TZID=Europe/Oslo:20260620T235959
SEQUENCE:1
END:VEVENT
BEGIN:VEVENT
UID:sabre-vobject-ac36089b-a751-4d65-941f-0234f0198bf5
DTSTAMP:20260419T121211Z
SUMMARY:SOLD OUT Alpaca Trekking 
DESCRIPTION:Trekking in the Black Forest sounds awesome...wait\, with an al
 paca too?!&nbsp\;\n
X-ALT-DESC:FMTTYPE=text/html:<!DOCTYPE HTML PUBLIC "-//W3C//DTD HTML 3.2//E
 N"><HTML><p>Trekking in the Black Forest sounds awesome...wait\, with an a
 lpaca too?!&nbsp\;</p>\n</HTML>
CREATED;TZID=Europe/Oslo:20260324T160629
URL;VALUE=URI:https://stuttgart.armymwr.com/calendar/event
DTSTART;TZID=Europe/Oslo:20260718T000000
DTEND;TZID=Europe/Oslo:20260718T235959
SEQUENCE:2
END:VEVENT
BEGIN:VEVENT
UID:sabre-vobject-61b01390-49d8-4bc4-978e-c55428aea372
DTSTAMP:20260419T121211Z
SUMMARY:SOLD OUT Alpaca Trekking 
DESCRIPTION:Trekking in the Black Forest sounds awesome...wait\, with an al
 paca too?!&nbsp\;\n
X-ALT-DESC:FMTTYPE=text/html:<!DOCTYPE HTML PUBLIC "-//W3C//DTD HTML 3.2//E
 N"><HTML><p>Trekking in the Black Forest sounds awesome...wait\, with an a
 lpaca too?!&nbsp\;</p>\n</HTML>
CREATED;TZID=Europe/Oslo:20260324T160629
URL;VALUE=URI:https://stuttgart.armymwr.com/calendar/event
DTSTART;TZID=Europe/Oslo:20260808T000000
DTEND;TZID=Europe/Oslo:20260808T235959
SEQUENCE:3
END:VEVENT
BEGIN:VEVENT
UID:sabre-vobject-17f950bf-8f04-4f53-9cfc-09a60eba4333
DTSTAMP:20260419T121211Z
SUMMARY:SOLD OUT Alpaca Trekking 
DESCRIPTION:Trekking in the Black Forest sounds awesome...wait\, with an al
 paca too?!&nbsp\;\n
X-ALT-DESC:FMTTYPE=text/html:<!DOCTYPE HTML PUBLIC "-//W3C//DTD HTML 3.2//E
 N"><HTML><p>Trekking in the Black Forest sounds awesome...wait\, with an a
 lpaca too?!&nbsp\;</p>\n</HTML>
CREATED;TZID=Europe/Oslo:20260324T160629
URL;VALUE=URI:https://stuttgart.armymwr.com/calendar/event
DTSTART;TZID=Europe/Oslo:20260912T000000
DTEND;TZID=Europe/Oslo:20260912T235959
SEQUENCE:4
END:VEVENT
END:VCALENDAR
