BEGIN:VCALENDAR
VERSION:2.0
PRODID:-//Sabre//Sabre VObject 4.5.8//EN
CALSCALE:GREGORIAN
BEGIN:VEVENT
UID:sabre-vobject-e8f5b38c-3344-4e86-acab-adccf80aa821
DTSTAMP:20260422T202128Z
SUMMARY:**CANCELLED** Lake Como
DESCRIPTION:Indulge in the magic of Lake Como!\n
X-ALT-DESC:FMTTYPE=text/html:<!DOCTYPE HTML PUBLIC "-//W3C//DTD HTML 3.2//E
 N"><HTML><p>Indulge in the magic of Lake Como!</p>\n</HTML>
CREATED;TZID=Europe/Oslo:20260115T080546
URL;VALUE=URI:https://stuttgart.armymwr.com/calendar/event
DTSTART;TZID=Europe/Oslo:20260718T000000
DTEND;TZID=Europe/Oslo:20260718T235959
SEQUENCE:0
END:VEVENT
END:VCALENDAR
