BEGIN:VCALENDAR
VERSION:2.0
PRODID:-//Sabre//Sabre VObject 4.5.8//EN
CALSCALE:GREGORIAN
BEGIN:VEVENT
UID:sabre-vobject-7cd72631-1564-4d9f-92ca-4a25cbfa110f
DTSTAMP:20260419T235951Z
SUMMARY:Army Volunteer Corps Organization Point of Contact (OPOC) Training 
DESCRIPTION:
X-ALT-DESC:FMTTYPE=text/html:<!DOCTYPE HTML PUBLIC "-//W3C//DTD HTML 3.2//E
 N"><HTML></HTML>
CREATED;TZID=Europe/Oslo:20260105T103514
URL;VALUE=URI:https://stuttgart.armymwr.com/calendar/event
DTSTART;TZID=Europe/Oslo:20260218T090000
DTEND;TZID=Europe/Oslo:20260218T100000
SEQUENCE:0
END:VEVENT
BEGIN:VEVENT
UID:sabre-vobject-965a4bfd-928a-4fb5-b9c8-ab0c3e5c9712
DTSTAMP:20260419T235951Z
SUMMARY:Army Volunteer Corps Organization Point of Contact (OPOC) Training 
DESCRIPTION:
X-ALT-DESC:FMTTYPE=text/html:<!DOCTYPE HTML PUBLIC "-//W3C//DTD HTML 3.2//E
 N"><HTML></HTML>
CREATED;TZID=Europe/Oslo:20260105T103514
URL;VALUE=URI:https://stuttgart.armymwr.com/calendar/event
DTSTART;TZID=Europe/Oslo:20260407T100000
DTEND;TZID=Europe/Oslo:20260407T110000
SEQUENCE:1
END:VEVENT
BEGIN:VEVENT
UID:sabre-vobject-3815ec02-a0af-4550-b0f7-ebc36675d139
DTSTAMP:20260419T235951Z
SUMMARY:Army Volunteer Corps Organization Point of Contact (OPOC) Training 
DESCRIPTION:
X-ALT-DESC:FMTTYPE=text/html:<!DOCTYPE HTML PUBLIC "-//W3C//DTD HTML 3.2//E
 N"><HTML></HTML>
CREATED;TZID=Europe/Oslo:20260105T103514
URL;VALUE=URI:https://stuttgart.armymwr.com/calendar/event
DTSTART;TZID=Europe/Oslo:20260602T090000
DTEND;TZID=Europe/Oslo:20260602T100000
SEQUENCE:2
END:VEVENT
END:VCALENDAR
