BEGIN:VCALENDAR
VERSION:2.0
PRODID:-//Sabre//Sabre VObject 4.5.8//EN
CALSCALE:GREGORIAN
BEGIN:VEVENT
UID:sabre-vobject-a72d2d0f-d1b9-411f-96e1-b007cd16ff0b
DTSTAMP:20260422T112152Z
SUMMARY:Ziplining
DESCRIPTION:Zip into adventure in Germany&rsquo\;s legendary Black Forest!\
 n
X-ALT-DESC:FMTTYPE=text/html:<!DOCTYPE HTML PUBLIC "-//W3C//DTD HTML 3.2//E
 N"><HTML><p>Zip into adventure in Germany&rsquo\;s legendary Black Forest!
 </p>\n</HTML>
CREATED;TZID=Europe/Oslo:20260105T100809
URL;VALUE=URI:https://stuttgart.armymwr.com/calendar/event
DTSTART;TZID=Europe/Oslo:20260627T000000
DTEND;TZID=Europe/Oslo:20260627T235959
SEQUENCE:0
END:VEVENT
BEGIN:VEVENT
UID:sabre-vobject-9eb16bb7-2ee5-4401-8558-84fd8f7ac4f3
DTSTAMP:20260422T112152Z
SUMMARY:Ziplining
DESCRIPTION:Zip into adventure in Germany&rsquo\;s legendary Black Forest!\
 n
X-ALT-DESC:FMTTYPE=text/html:<!DOCTYPE HTML PUBLIC "-//W3C//DTD HTML 3.2//E
 N"><HTML><p>Zip into adventure in Germany&rsquo\;s legendary Black Forest!
 </p>\n</HTML>
CREATED;TZID=Europe/Oslo:20260105T100809
URL;VALUE=URI:https://stuttgart.armymwr.com/calendar/event
DTSTART;TZID=Europe/Oslo:20260725T000000
DTEND;TZID=Europe/Oslo:20260725T235959
SEQUENCE:1
END:VEVENT
BEGIN:VEVENT
UID:sabre-vobject-48ded5e4-abbd-4fe2-8faf-970c1b0b8fc1
DTSTAMP:20260422T112152Z
SUMMARY:Ziplining
DESCRIPTION:Zip into adventure in Germany&rsquo\;s legendary Black Forest!\
 n
X-ALT-DESC:FMTTYPE=text/html:<!DOCTYPE HTML PUBLIC "-//W3C//DTD HTML 3.2//E
 N"><HTML><p>Zip into adventure in Germany&rsquo\;s legendary Black Forest!
 </p>\n</HTML>
CREATED;TZID=Europe/Oslo:20260105T100809
URL;VALUE=URI:https://stuttgart.armymwr.com/calendar/event
DTSTART;TZID=Europe/Oslo:20260822T000000
DTEND;TZID=Europe/Oslo:20260822T235959
SEQUENCE:2
END:VEVENT
BEGIN:VEVENT
UID:sabre-vobject-4873511d-a635-4816-80da-891044a413c1
DTSTAMP:20260422T112152Z
SUMMARY:Ziplining
DESCRIPTION:Zip into adventure in Germany&rsquo\;s legendary Black Forest!\
 n
X-ALT-DESC:FMTTYPE=text/html:<!DOCTYPE HTML PUBLIC "-//W3C//DTD HTML 3.2//E
 N"><HTML><p>Zip into adventure in Germany&rsquo\;s legendary Black Forest!
 </p>\n</HTML>
CREATED;TZID=Europe/Oslo:20260105T100809
URL;VALUE=URI:https://stuttgart.armymwr.com/calendar/event
DTSTART;TZID=Europe/Oslo:20260926T000000
DTEND;TZID=Europe/Oslo:20260926T235959
SEQUENCE:3
END:VEVENT
END:VCALENDAR
