BEGIN:VCALENDAR
VERSION:2.0
PRODID:-//Sabre//Sabre VObject 4.5.8//EN
CALSCALE:GREGORIAN
BEGIN:VEVENT
UID:sabre-vobject-5219da10-d271-46c8-a4fb-c9bdb33e8f49
DTSTAMP:20260420T070749Z
SUMMARY:Lake Como
DESCRIPTION:Indulge in the magic of Lake Como!\n
X-ALT-DESC:FMTTYPE=text/html:<!DOCTYPE HTML PUBLIC "-//W3C//DTD HTML 3.2//E
 N"><HTML><p>Indulge in the magic of Lake Como!</p>\n</HTML>
CREATED;TZID=Europe/Oslo:20251230T110321
URL;VALUE=URI:https://stuttgart.armymwr.com/calendar/event
DTSTART;TZID=Europe/Oslo:20260523T000000
DTEND;TZID=Europe/Oslo:20260523T235959
SEQUENCE:0
END:VEVENT
END:VCALENDAR
