BEGIN:VCALENDAR
VERSION:2.0
PRODID:-//Sabre//Sabre VObject 4.5.8//EN
CALSCALE:GREGORIAN
BEGIN:VEVENT
UID:sabre-vobject-14b11fb7-b4db-44c1-b1e6-7dc4a0da801b
DTSTAMP:20260426T025946Z
SUMMARY:Almabtrieb Folk Festival 
DESCRIPTION:Have you been to one of the largest cattle drives in the world?
 &nbsp\;\n
X-ALT-DESC:FMTTYPE=text/html:<!DOCTYPE HTML PUBLIC "-//W3C//DTD HTML 3.2//E
 N"><HTML><p>Have you been to one of the largest cattle drives in the world
 ?&nbsp\;</p>\n</HTML>
CREATED;TZID=Europe/Oslo:20251222T132525
URL;VALUE=URI:https://stuttgart.armymwr.com/calendar/event
DTSTART;TZID=Europe/Oslo:20260919T000000
DTEND;TZID=Europe/Oslo:20260919T235959
SEQUENCE:0
END:VEVENT
BEGIN:VEVENT
UID:sabre-vobject-b1847555-868b-4433-8735-b526527fae7f
DTSTAMP:20260426T025946Z
SUMMARY:Almabtrieb Folk Festival 
DESCRIPTION:Have you been to one of the largest cattle drives in the world?
 &nbsp\;\n
X-ALT-DESC:FMTTYPE=text/html:<!DOCTYPE HTML PUBLIC "-//W3C//DTD HTML 3.2//E
 N"><HTML><p>Have you been to one of the largest cattle drives in the world
 ?&nbsp\;</p>\n</HTML>
CREATED;TZID=Europe/Oslo:20251222T132525
URL;VALUE=URI:https://stuttgart.armymwr.com/calendar/event
DTSTART;TZID=Europe/Oslo:20260926T000000
DTEND;TZID=Europe/Oslo:20260926T235959
SEQUENCE:1
END:VEVENT
END:VCALENDAR
