BEGIN:VCALENDAR
VERSION:2.0
PRODID:-//Sabre//Sabre VObject 4.5.8//EN
CALSCALE:GREGORIAN
BEGIN:VEVENT
UID:sabre-vobject-62877a85-8b21-4fe4-8274-0bb403679b1b
DTSTAMP:20260423T163746Z
SUMMARY:Bolesawiec Polish Pottery Festival
DESCRIPTION:Experience the magic of the Polish Pottery Festival!\n
X-ALT-DESC:FMTTYPE=text/html:<!DOCTYPE HTML PUBLIC "-//W3C//DTD HTML 3.2//E
 N"><HTML><p>Experience the magic of the Polish Pottery Festival!</p>\n</HT
 ML>
CREATED;TZID=Europe/Oslo:20251222T124718
URL;VALUE=URI:https://stuttgart.armymwr.com/calendar/event
DTSTART;TZID=Europe/Oslo:20260821T000000
DTEND;TZID=Europe/Oslo:20260823T235959
SEQUENCE:0
END:VEVENT
END:VCALENDAR
