BEGIN:VCALENDAR
VERSION:2.0
PRODID:-//Sabre//Sabre VObject 4.5.8//EN
CALSCALE:GREGORIAN
BEGIN:VEVENT
UID:sabre-vobject-d17ff9b1-9d5d-4b34-9ec9-bae9d7d8f76b
DTSTAMP:20260420T191630Z
SUMMARY:Pfaffensee Wildlife Walk
DESCRIPTION:Step into nature with a relaxed hike along Lake Pfaffensee!\n
X-ALT-DESC:FMTTYPE=text/html:<!DOCTYPE HTML PUBLIC "-//W3C//DTD HTML 3.2//E
 N"><HTML><p>Step into nature with a relaxed hike along Lake Pfaffensee!</p
 >\n</HTML>
CREATED;TZID=Europe/Oslo:20251212T131939
URL;VALUE=URI:https://stuttgart.armymwr.com/calendar/event
DTSTART;TZID=Europe/Oslo:20260328T000000
DTEND;TZID=Europe/Oslo:20260328T235959
SEQUENCE:0
END:VEVENT
END:VCALENDAR
