BEGIN:VCALENDAR
VERSION:2.0
PRODID:-//Sabre//Sabre VObject 4.5.8//EN
CALSCALE:GREGORIAN
BEGIN:VEVENT
UID:sabre-vobject-b16f7997-c7de-4c3b-b5e3-f972814b91ae
DTSTAMP:20260420T185123Z
SUMMARY:**CANCELLED**Wild Trails Stuttgart: Partnach Gorge
DESCRIPTION:Discover breathtaking scenery where lush forests meet rushing t
 urquoise waters.\n
X-ALT-DESC:FMTTYPE=text/html:<!DOCTYPE HTML PUBLIC "-//W3C//DTD HTML 3.2//E
 N"><HTML><p>Discover breathtaking scenery where lush forests meet rushing 
 turquoise waters.</p>\n</HTML>
CREATED;TZID=Europe/Oslo:20260304T130654
URL;VALUE=URI:https://stuttgart.armymwr.com/calendar/event
DTSTART;TZID=Europe/Oslo:20260313T000000
DTEND;TZID=Europe/Oslo:20260313T235959
SEQUENCE:0
END:VEVENT
END:VCALENDAR
