BEGIN:VCALENDAR
VERSION:2.0
PRODID:-//Sabre//Sabre VObject 4.5.8//EN
CALSCALE:GREGORIAN
BEGIN:VEVENT
UID:sabre-vobject-51d82a73-c82e-434b-a70b-b26b809ecdf6
DTSTAMP:20260421T092103Z
SUMMARY:Wild Trails Stuttgart: Black Forest Line Suspension Bridge and Wate
 rfall
DESCRIPTION:Enjoy your day at this picture-perfect mountain getaway!\n
X-ALT-DESC:FMTTYPE=text/html:<!DOCTYPE HTML PUBLIC "-//W3C//DTD HTML 3.2//E
 N"><HTML><p>Enjoy your day at this picture-perfect mountain getaway!</p>\n
 </HTML>
CREATED;TZID=Europe/Oslo:20251119T091424
URL;VALUE=URI:https://stuttgart.armymwr.com/calendar/event
DTSTART;TZID=Europe/Oslo:20260227T000000
DTEND;TZID=Europe/Oslo:20260227T235959
SEQUENCE:0
END:VEVENT
END:VCALENDAR
