BEGIN:VCALENDAR
VERSION:2.0
PRODID:-//Sabre//Sabre VObject 4.5.8//EN
CALSCALE:GREGORIAN
BEGIN:VEVENT
UID:sabre-vobject-d8eba6a8-8c9e-40d6-a2b5-e0fcf142478d
DTSTAMP:20260421T134345Z
SUMMARY:Valentine's Day in Paris
DESCRIPTION:Celebrate Valentine&rsquo\;s Day with a magical journey to Pari
 s!\n
X-ALT-DESC:FMTTYPE=text/html:<!DOCTYPE HTML PUBLIC "-//W3C//DTD HTML 3.2//E
 N"><HTML><p>Celebrate Valentine&rsquo\;s Day with a magical journey to Par
 is!</p>\n</HTML>
CREATED;TZID=Europe/Oslo:20260203T110022
URL;VALUE=URI:https://stuttgart.armymwr.com/calendar/event
DTSTART;TZID=Europe/Oslo:20260214T000000
DTEND;TZID=Europe/Oslo:20260215T235959
SEQUENCE:0
END:VEVENT
END:VCALENDAR
