BEGIN:VCALENDAR
VERSION:2.0
PRODID:-//Sabre//Sabre VObject 4.5.8//EN
CALSCALE:GREGORIAN
BEGIN:VEVENT
UID:sabre-vobject-a36c6b6f-82ef-4cf8-be23-dd0d5246f003
DTSTAMP:20260422T014948Z
SUMMARY:Valentine's Day Balloon Sale Special
DESCRIPTION:Make Valentine&#39\;s Day a special one for your loved ones!\n
X-ALT-DESC:FMTTYPE=text/html:<!DOCTYPE HTML PUBLIC "-//W3C//DTD HTML 3.2//E
 N"><HTML><p>Make Valentine&#39\;s Day a special one for your loved ones!</
 p>\n</HTML>
CREATED;TZID=Europe/Oslo:20251113T151411
URL;VALUE=URI:https://stuttgart.armymwr.com/calendar/event
DTSTART;TZID=Europe/Oslo:20260201T000000
DTEND;TZID=Europe/Oslo:20260214T235959
SEQUENCE:0
END:VEVENT
END:VCALENDAR
