BEGIN:VCALENDAR
VERSION:2.0
PRODID:-//Sabre//Sabre VObject 4.5.8//EN
CALSCALE:GREGORIAN
BEGIN:VEVENT
UID:sabre-vobject-9089adeb-e5c2-4b9f-8d00-251cfbc83157
DTSTAMP:20260423T200926Z
SUMMARY:Feldberg Ski & Snowboard Trip
DESCRIPTION:Embrace winter fun at Feldberg Ski Resort&mdash\;Outdoor Recrea
 tion has you covered!\n
X-ALT-DESC:FMTTYPE=text/html:<!DOCTYPE HTML PUBLIC "-//W3C//DTD HTML 3.2//E
 N"><HTML><p>Embrace winter fun at Feldberg Ski Resort&mdash\;Outdoor Recre
 ation has you covered!</p>\n</HTML>
CREATED;TZID=Europe/Oslo:20251103T082557
URL;VALUE=URI:https://stuttgart.armymwr.com/calendar/event
DTSTART;TZID=Europe/Oslo:20251212T000000
DTEND;TZID=Europe/Oslo:20251212T235959
SEQUENCE:0
END:VEVENT
END:VCALENDAR
