BEGIN:VCALENDAR
VERSION:2.0
PRODID:-//Sabre//Sabre VObject 4.5.8//EN
CALSCALE:GREGORIAN
BEGIN:VEVENT
UID:sabre-vobject-f027cc8e-eaaa-45e1-8cab-526b2486ecfd
DTSTAMP:20260423T201530Z
SUMMARY:Holiday Sale at Stuttgart Golf Pro Shop
DESCRIPTION:Find the perfect year-end gift at Stuttgart Golf Pro Shop! 🏌
 🏻&zwj\;♀️🏌🏻🛍\n
X-ALT-DESC:FMTTYPE=text/html:<!DOCTYPE HTML PUBLIC "-//W3C//DTD HTML 3.2//E
 N"><HTML><p>Find the perfect year-end gift at Stuttgart Golf Pro Shop! 
 🏌🏻&zwj\;♀️🏌🏻🛍</p>\n</HTML>
CREATED;TZID=Europe/Oslo:20251024T084921
URL;VALUE=URI:https://stuttgart.armymwr.com/calendar/event
DTSTART;TZID=Europe/Oslo:20251128T000000
DTEND;TZID=Europe/Oslo:20251223T235959
SEQUENCE:0
END:VEVENT
END:VCALENDAR
