BEGIN:VCALENDAR
VERSION:2.0
PRODID:-//Sabre//Sabre VObject 4.5.8//EN
CALSCALE:GREGORIAN
BEGIN:VEVENT
UID:sabre-vobject-fb19148c-ce13-4e41-a801-d8b479dab4d2
DTSTAMP:20260425T152512Z
SUMMARY:Halloween Spook-tacular
DESCRIPTION:Galaxy Bowling &amp\; Entertainment Center will be hosting its 
 4th annual Halloween Spook-tacular...and the Grand Prize Giveaway!&nbsp\;\
 n\n\n	Grand Prize Hint: Sunday&#39\;s favorite sport 🏈 coming to German
 y!\n\n
X-ALT-DESC:FMTTYPE=text/html:<!DOCTYPE HTML PUBLIC "-//W3C//DTD HTML 3.2//E
 N"><HTML><p>Galaxy Bowling &amp\; Entertainment Center will be hosting its
  4th annual Halloween Spook-tacular...and the Grand Prize Giveaway!&nbsp\;
 </p>\n\n<ul>\n	<li><strong>Grand Prize Hint: Sunday&#39\;s favorite sport 
 🏈 coming to Germany!</strong></li>\n</ul>\n</HTML>
CREATED;TZID=Europe/Oslo:20251027T143912
URL;VALUE=URI:https://stuttgart.armymwr.com/calendar/event
DTSTART;TZID=Europe/Oslo:20251031T160000
DTEND;TZID=Europe/Oslo:20251031T220000
SEQUENCE:0
END:VEVENT
END:VCALENDAR
