BEGIN:VCALENDAR
VERSION:2.0
PRODID:-//Sabre//Sabre VObject 4.5.8//EN
CALSCALE:GREGORIAN
BEGIN:VEVENT
UID:sabre-vobject-4ae8372b-e32c-4c47-8c7e-6f70cd8037e2
DTSTAMP:20260419T152842Z
SUMMARY:Stuttgart Youth Newcomers Orientation SY25/26
DESCRIPTION:&nbsp\;Calling all new Stuttgart adventurers youth members (6th
 -12th grade)!\n
X-ALT-DESC:FMTTYPE=text/html:<!DOCTYPE HTML PUBLIC "-//W3C//DTD HTML 3.2//E
 N"><HTML><p>&nbsp\;Calling all new Stuttgart adventurers youth members (6t
 h-12th grade)!</p>\n</HTML>
CREATED;TZID=Europe/Oslo:20251023T132855
URL;VALUE=URI:https://stuttgart.armymwr.com/calendar/event
DTSTART;TZID=Europe/Oslo:20251229T083000
DTEND;TZID=Europe/Oslo:20251229T160000
SEQUENCE:0
END:VEVENT
BEGIN:VEVENT
UID:sabre-vobject-827dada4-092f-4f72-b15d-6fad4feab4dc
DTSTAMP:20260419T152842Z
SUMMARY:Stuttgart Youth Newcomers Orientation SY25/26
DESCRIPTION:&nbsp\;Calling all new Stuttgart adventurers youth members (6th
 -12th grade)!\n
X-ALT-DESC:FMTTYPE=text/html:<!DOCTYPE HTML PUBLIC "-//W3C//DTD HTML 3.2//E
 N"><HTML><p>&nbsp\;Calling all new Stuttgart adventurers youth members (6t
 h-12th grade)!</p>\n</HTML>
CREATED;TZID=Europe/Oslo:20251023T132855
URL;VALUE=URI:https://stuttgart.armymwr.com/calendar/event
DTSTART;TZID=Europe/Oslo:20260330T083000
DTEND;TZID=Europe/Oslo:20260330T160000
SEQUENCE:1
END:VEVENT
BEGIN:VEVENT
UID:sabre-vobject-9996c457-5a94-44ad-bea5-db30ca2c3ee3
DTSTAMP:20260419T152842Z
SUMMARY:Stuttgart Youth Newcomers Orientation SY25/26
DESCRIPTION:&nbsp\;Calling all new Stuttgart adventurers youth members (6th
 -12th grade)!\n
X-ALT-DESC:FMTTYPE=text/html:<!DOCTYPE HTML PUBLIC "-//W3C//DTD HTML 3.2//E
 N"><HTML><p>&nbsp\;Calling all new Stuttgart adventurers youth members (6t
 h-12th grade)!</p>\n</HTML>
CREATED;TZID=Europe/Oslo:20251023T132855
URL;VALUE=URI:https://stuttgart.armymwr.com/calendar/event
DTSTART;TZID=Europe/Oslo:20260730T083000
DTEND;TZID=Europe/Oslo:20260730T160000
SEQUENCE:2
END:VEVENT
BEGIN:VEVENT
UID:sabre-vobject-17f85a7f-2f3e-49bd-9919-7784fe7c7831
DTSTAMP:20260419T152842Z
SUMMARY:Stuttgart Youth Newcomers Orientation SY25/26
DESCRIPTION:&nbsp\;Calling all new Stuttgart adventurers youth members (6th
 -12th grade)!\n
X-ALT-DESC:FMTTYPE=text/html:<!DOCTYPE HTML PUBLIC "-//W3C//DTD HTML 3.2//E
 N"><HTML><p>&nbsp\;Calling all new Stuttgart adventurers youth members (6t
 h-12th grade)!</p>\n</HTML>
CREATED;TZID=Europe/Oslo:20251023T132855
URL;VALUE=URI:https://stuttgart.armymwr.com/calendar/event
DTSTART;TZID=Europe/Oslo:20260731T083000
DTEND;TZID=Europe/Oslo:20260731T160000
SEQUENCE:3
END:VEVENT
END:VCALENDAR
