BEGIN:VCALENDAR
VERSION:2.0
PRODID:-//Sabre//Sabre VObject 4.5.8//EN
CALSCALE:GREGORIAN
BEGIN:VEVENT
UID:sabre-vobject-4ebe0105-285b-407f-b132-3d9814b0b470
DTSTAMP:20260422T081644Z
SUMMARY:USAG Stuttgart Unit Level Soccer 
DESCRIPTION:Calling all Soccer enthusiasts in our community!\n
X-ALT-DESC:FMTTYPE=text/html:<!DOCTYPE HTML PUBLIC "-//W3C//DTD HTML 3.2//E
 N"><HTML><p>Calling all Soccer enthusiasts in our community!</p>\n</HTML>
CREATED;TZID=Europe/Oslo:20250819T110455
URL;VALUE=URI:https://stuttgart.armymwr.com/calendar/event
DTSTART;TZID=Europe/Oslo:20260629T000000
DTEND;TZID=Europe/Oslo:20260820T235959
SEQUENCE:0
END:VEVENT
END:VCALENDAR
