BEGIN:VCALENDAR
VERSION:2.0
PRODID:-//Sabre//Sabre VObject 4.5.8//EN
CALSCALE:GREGORIAN
BEGIN:VEVENT
UID:sabre-vobject-afb9beb1-1ce7-4a7d-8d76-9cb25c061882
DTSTAMP:20260422T051410Z
SUMMARY:USAG Stuttgart Unit Level Basketball — Coaches Meeting
DESCRIPTION:USAG Stuttgart Unit Level Basketball season is back!\n
X-ALT-DESC:FMTTYPE=text/html:<!DOCTYPE HTML PUBLIC "-//W3C//DTD HTML 3.2//E
 N"><HTML><p>USAG Stuttgart Unit Level Basketball season is back!</p>\n</HT
 ML>
CREATED;TZID=Europe/Oslo:20251119T083833
URL;VALUE=URI:https://stuttgart.armymwr.com/calendar/event
DTSTART;TZID=Europe/Oslo:20260127T140000
DTEND;TZID=Europe/Oslo:20260127T150000
SEQUENCE:0
END:VEVENT
END:VCALENDAR
