BEGIN:VCALENDAR
VERSION:2.0
PRODID:-//Sabre//Sabre VObject 4.5.8//EN
CALSCALE:GREGORIAN
BEGIN:VEVENT
UID:sabre-vobject-da18c393-4f15-4a4f-898d-45a9eabd2bcb
DTSTAMP:20260424T160016Z
SUMMARY:Teen Group - Level Up: Friendsgiving
DESCRIPTION:
X-ALT-DESC:FMTTYPE=text/html:<!DOCTYPE HTML PUBLIC "-//W3C//DTD HTML 3.2//E
 N"><HTML></HTML>
CREATED;TZID=Europe/Oslo:20250815T094250
URL;VALUE=URI:https://stuttgart.armymwr.com/calendar/event
DTSTART;TZID=Europe/Oslo:20251120T173000
DTEND;TZID=Europe/Oslo:20251120T193000
SEQUENCE:0
END:VEVENT
END:VCALENDAR
