BEGIN:VCALENDAR
VERSION:2.0
PRODID:-//Sabre//Sabre VObject 4.5.8//EN
CALSCALE:GREGORIAN
BEGIN:VEVENT
UID:sabre-vobject-fe38fa20-cfa8-46c9-9dc3-198ea97d22f7
DTSTAMP:20260423T051144Z
SUMMARY:Coney Island Christmas
DESCRIPTION:&ldquo\;Gave me the gift of wonder&hellip\;incredible enchantme
 nt!&rdquo\; &mdash\;Los Angeles Times.\n
X-ALT-DESC:FMTTYPE=text/html:<!DOCTYPE HTML PUBLIC "-//W3C//DTD HTML 3.2//E
 N"><HTML><p><em>&ldquo\;Gave me the gift of wonder&hellip\;incredible ench
 antment!&rdquo\;</em> &mdash\;Los Angeles Times.</p>\n</HTML>
CREATED;TZID=Europe/Oslo:20251027T103621
URL;VALUE=URI:https://stuttgart.armymwr.com/calendar/event
DTSTART;TZID=Europe/Oslo:20251205T193000
DTEND;TZID=Europe/Oslo:20251205T203000
SEQUENCE:0
END:VEVENT
BEGIN:VEVENT
UID:sabre-vobject-972d26fe-13a0-4e92-b874-76d9c56afb97
DTSTAMP:20260423T051144Z
SUMMARY:Coney Island Christmas
DESCRIPTION:&ldquo\;Gave me the gift of wonder&hellip\;incredible enchantme
 nt!&rdquo\; &mdash\;Los Angeles Times.\n
X-ALT-DESC:FMTTYPE=text/html:<!DOCTYPE HTML PUBLIC "-//W3C//DTD HTML 3.2//E
 N"><HTML><p><em>&ldquo\;Gave me the gift of wonder&hellip\;incredible ench
 antment!&rdquo\;</em> &mdash\;Los Angeles Times.</p>\n</HTML>
CREATED;TZID=Europe/Oslo:20251027T103621
URL;VALUE=URI:https://stuttgart.armymwr.com/calendar/event
DTSTART;TZID=Europe/Oslo:20251206T193000
DTEND;TZID=Europe/Oslo:20251206T203000
SEQUENCE:1
END:VEVENT
BEGIN:VEVENT
UID:sabre-vobject-b62991b6-66a2-4730-9865-17ddcbbe17bd
DTSTAMP:20260423T051144Z
SUMMARY:Coney Island Christmas
DESCRIPTION:&ldquo\;Gave me the gift of wonder&hellip\;incredible enchantme
 nt!&rdquo\; &mdash\;Los Angeles Times.\n
X-ALT-DESC:FMTTYPE=text/html:<!DOCTYPE HTML PUBLIC "-//W3C//DTD HTML 3.2//E
 N"><HTML><p><em>&ldquo\;Gave me the gift of wonder&hellip\;incredible ench
 antment!&rdquo\;</em> &mdash\;Los Angeles Times.</p>\n</HTML>
CREATED;TZID=Europe/Oslo:20251027T103621
URL;VALUE=URI:https://stuttgart.armymwr.com/calendar/event
DTSTART;TZID=Europe/Oslo:20251212T193000
DTEND;TZID=Europe/Oslo:20251212T203000
SEQUENCE:2
END:VEVENT
BEGIN:VEVENT
UID:sabre-vobject-18ec72c7-6c52-476e-8694-c6b93dee4e9f
DTSTAMP:20260423T051144Z
SUMMARY:Coney Island Christmas
DESCRIPTION:&ldquo\;Gave me the gift of wonder&hellip\;incredible enchantme
 nt!&rdquo\; &mdash\;Los Angeles Times.\n
X-ALT-DESC:FMTTYPE=text/html:<!DOCTYPE HTML PUBLIC "-//W3C//DTD HTML 3.2//E
 N"><HTML><p><em>&ldquo\;Gave me the gift of wonder&hellip\;incredible ench
 antment!&rdquo\;</em> &mdash\;Los Angeles Times.</p>\n</HTML>
CREATED;TZID=Europe/Oslo:20251027T103621
URL;VALUE=URI:https://stuttgart.armymwr.com/calendar/event
DTSTART;TZID=Europe/Oslo:20251213T193000
DTEND;TZID=Europe/Oslo:20251213T203000
SEQUENCE:3
END:VEVENT
BEGIN:VEVENT
UID:sabre-vobject-ad15d7ce-be30-4259-9538-2833278ba2c0
DTSTAMP:20260423T051144Z
SUMMARY:Coney Island Christmas
DESCRIPTION:&ldquo\;Gave me the gift of wonder&hellip\;incredible enchantme
 nt!&rdquo\; &mdash\;Los Angeles Times.\n
X-ALT-DESC:FMTTYPE=text/html:<!DOCTYPE HTML PUBLIC "-//W3C//DTD HTML 3.2//E
 N"><HTML><p><em>&ldquo\;Gave me the gift of wonder&hellip\;incredible ench
 antment!&rdquo\;</em> &mdash\;Los Angeles Times.</p>\n</HTML>
CREATED;TZID=Europe/Oslo:20251027T103621
URL;VALUE=URI:https://stuttgart.armymwr.com/calendar/event
DTSTART;TZID=Europe/Oslo:20251219T193000
DTEND;TZID=Europe/Oslo:20251219T203000
SEQUENCE:4
END:VEVENT
BEGIN:VEVENT
UID:sabre-vobject-b5d03ac7-d6d9-4201-b2b5-c26167e6c5c3
DTSTAMP:20260423T051144Z
SUMMARY:Coney Island Christmas
DESCRIPTION:&ldquo\;Gave me the gift of wonder&hellip\;incredible enchantme
 nt!&rdquo\; &mdash\;Los Angeles Times.\n
X-ALT-DESC:FMTTYPE=text/html:<!DOCTYPE HTML PUBLIC "-//W3C//DTD HTML 3.2//E
 N"><HTML><p><em>&ldquo\;Gave me the gift of wonder&hellip\;incredible ench
 antment!&rdquo\;</em> &mdash\;Los Angeles Times.</p>\n</HTML>
CREATED;TZID=Europe/Oslo:20251027T103621
URL;VALUE=URI:https://stuttgart.armymwr.com/calendar/event
DTSTART;TZID=Europe/Oslo:20251220T193000
DTEND;TZID=Europe/Oslo:20251220T203000
SEQUENCE:5
END:VEVENT
BEGIN:VEVENT
UID:sabre-vobject-befff035-68f2-48ce-b6b9-0f654ce38a9a
DTSTAMP:20260423T051144Z
SUMMARY:Coney Island Christmas
DESCRIPTION:&ldquo\;Gave me the gift of wonder&hellip\;incredible enchantme
 nt!&rdquo\; &mdash\;Los Angeles Times.\n
X-ALT-DESC:FMTTYPE=text/html:<!DOCTYPE HTML PUBLIC "-//W3C//DTD HTML 3.2//E
 N"><HTML><p><em>&ldquo\;Gave me the gift of wonder&hellip\;incredible ench
 antment!&rdquo\;</em> &mdash\;Los Angeles Times.</p>\n</HTML>
CREATED;TZID=Europe/Oslo:20251027T103621
URL;VALUE=URI:https://stuttgart.armymwr.com/calendar/event
DTSTART;TZID=Europe/Oslo:20251207T150000
DTEND;TZID=Europe/Oslo:20251207T160000
SEQUENCE:6
END:VEVENT
BEGIN:VEVENT
UID:sabre-vobject-fc37c990-c7ed-4df3-b6c6-5ab88e8f5c88
DTSTAMP:20260423T051144Z
SUMMARY:Coney Island Christmas
DESCRIPTION:&ldquo\;Gave me the gift of wonder&hellip\;incredible enchantme
 nt!&rdquo\; &mdash\;Los Angeles Times.\n
X-ALT-DESC:FMTTYPE=text/html:<!DOCTYPE HTML PUBLIC "-//W3C//DTD HTML 3.2//E
 N"><HTML><p><em>&ldquo\;Gave me the gift of wonder&hellip\;incredible ench
 antment!&rdquo\;</em> &mdash\;Los Angeles Times.</p>\n</HTML>
CREATED;TZID=Europe/Oslo:20251027T103621
URL;VALUE=URI:https://stuttgart.armymwr.com/calendar/event
DTSTART;TZID=Europe/Oslo:20251214T150000
DTEND;TZID=Europe/Oslo:20251214T160000
SEQUENCE:7
END:VEVENT
BEGIN:VEVENT
UID:sabre-vobject-13565c89-8657-4a98-a5f5-f91c34b002bb
DTSTAMP:20260423T051144Z
SUMMARY:Coney Island Christmas
DESCRIPTION:&ldquo\;Gave me the gift of wonder&hellip\;incredible enchantme
 nt!&rdquo\; &mdash\;Los Angeles Times.\n
X-ALT-DESC:FMTTYPE=text/html:<!DOCTYPE HTML PUBLIC "-//W3C//DTD HTML 3.2//E
 N"><HTML><p><em>&ldquo\;Gave me the gift of wonder&hellip\;incredible ench
 antment!&rdquo\;</em> &mdash\;Los Angeles Times.</p>\n</HTML>
CREATED;TZID=Europe/Oslo:20251027T103621
URL;VALUE=URI:https://stuttgart.armymwr.com/calendar/event
DTSTART;TZID=Europe/Oslo:20251221T150000
DTEND;TZID=Europe/Oslo:20251221T160000
SEQUENCE:8
END:VEVENT
END:VCALENDAR
